BEGIN:VCALENDAR
VERSION:2.0
PRODID:-//eventon.com NONSGML v1.0//EN
CALSCALE:GREGORIAN
METHOD:PUBLISH
BEGIN:VEVENT
UID:69eb93bd4234b
DTSTAMP:20260424T160101Z
DTSTART:20260910T020000Z
DTEND:20260910T033000Z
LOCATION:Ernährungs- und Lifestyle Center Luckau Karl-Marx-Str. 22
SUMMARY:Yoga
DESCRIPTION:\nhttps://carmen-schniese.de/events/yoga/var/ri-239.l-L1
URL:https://carmen-schniese.de/events/yoga/var/ri-239.l-L1
END:VEVENT
END:VCALENDAR