BEGIN:VCALENDAR
VERSION:2.0
PRODID:-//eventon.com NONSGML v1.0//EN
CALSCALE:GREGORIAN
METHOD:PUBLISH
BEGIN:VEVENT
UID:69ebc713d5f58
DTSTAMP:20260424T194003Z
DTSTART:20260919T020000Z
DTEND:20260919T033000Z
LOCATION:Ernährungs- und Lifestyle Center Luckau Karl-Marx-Str. 22
SUMMARY:Yoga
DESCRIPTION:\nhttps://carmen-schniese.de/events/yoga/var/ri-241.l-L1
URL:https://carmen-schniese.de/events/yoga/var/ri-241.l-L1
END:VEVENT
END:VCALENDAR