BEGIN:VCALENDAR
VERSION:2.0
PRODID:-//eventon.com NONSGML v1.0//EN
CALSCALE:GREGORIAN
METHOD:PUBLISH
BEGIN:VEVENT
UID:69ec12b604167
DTSTAMP:20260425T010246Z
DTSTART:20260926T020000Z
DTEND:20260926T033000Z
LOCATION:Ernährungs- und Lifestyle Center Luckau Karl-Marx-Str. 22
SUMMARY:Yoga
DESCRIPTION:\nhttps://carmen-schniese.de/events/yoga/var/ri-244.l-L1
URL:https://carmen-schniese.de/events/yoga/var/ri-244.l-L1
END:VEVENT
END:VCALENDAR