BEGIN:VCALENDAR
VERSION:2.0
PRODID:-//eventon.com NONSGML v1.0//EN
CALSCALE:GREGORIAN
METHOD:PUBLISH
BEGIN:VEVENT
UID:69ed224a89963
DTSTAMP:20260425T202130Z
DTSTART:20261015T020000Z
DTEND:20261015T033000Z
LOCATION:Ernährungs- und Lifestyle Center Luckau Karl-Marx-Str. 22
SUMMARY:Yoga
DESCRIPTION:\nhttps://carmen-schniese.de/events/yoga/var/ri-254.l-L1
URL:https://carmen-schniese.de/events/yoga/var/ri-254.l-L1
END:VEVENT
END:VCALENDAR