BEGIN:VCALENDAR
VERSION:2.0
PRODID:-//eventon.com NONSGML v1.0//EN
CALSCALE:GREGORIAN
METHOD:PUBLISH
BEGIN:VEVENT
UID:69ed5682b34d7
DTSTAMP:20260426T000418Z
DTSTART:20261024T020000Z
DTEND:20261024T033000Z
LOCATION:Ernährungs- und Lifestyle Center Luckau Karl-Marx-Str. 22
SUMMARY:Yoga
DESCRIPTION:\nhttps://carmen-schniese.de/events/yoga/var/ri-256.l-L1
URL:https://carmen-schniese.de/events/yoga/var/ri-256.l-L1
END:VEVENT
END:VCALENDAR