BEGIN:VCALENDAR
VERSION:2.0
PRODID:-//eventon.com NONSGML v1.0//EN
CALSCALE:GREGORIAN
METHOD:PUBLISH
BEGIN:VEVENT
UID:69ecbb16df6ad
DTSTAMP:20260425T130110Z
DTSTART:20260810T153000Z
DTEND:20260810T163000Z
LOCATION:Ernährungs- und Lifestyle Center Luckau Karl-Marx-Str. 22
SUMMARY:Kinder Wing-Chun
DESCRIPTION:\nhttps://carmen-schniese.de/events/kinder-wing-chun/var/ri-76.
 l-L1
URL:https://carmen-schniese.de/events/kinder-wing-chun/var/ri-76.l-L1
END:VEVENT
END:VCALENDAR