BEGIN:VCALENDAR
VERSION:2.0
PRODID:-//eventon.com NONSGML v1.0//EN
CALSCALE:GREGORIAN
METHOD:PUBLISH
BEGIN:VEVENT
UID:69ecbabdc7d0c
DTSTAMP:20260425T125941Z
DTSTART:20260820T180000Z
DTEND:20260820T200000Z
LOCATION:Ernährungs- und Lifestyle Center Luckau Karl-Marx-Str. 22
SUMMARY:Erwachsenen Wing-Chun
DESCRIPTION:\nhttps://carmen-schniese.de/events/erwachsenen-wing-chun-2/var
 /ri-77.l-L1
URL:https://carmen-schniese.de/events/erwachsenen-wing-chun-2/var/ri-77.l-L1
END:VEVENT
END:VCALENDAR