BEGIN:VCALENDAR
VERSION:2.0
PRODID:-//eventon.com NONSGML v1.0//EN
CALSCALE:GREGORIAN
METHOD:PUBLISH
BEGIN:VEVENT
UID:69ecbab7a5f74
DTSTAMP:20260425T125935Z
DTSTART:20260827T180000Z
DTEND:20260827T200000Z
LOCATION:Ernährungs- und Lifestyle Center Luckau Karl-Marx-Str. 22
SUMMARY:Erwachsenen Wing-Chun
DESCRIPTION:\nhttps://carmen-schniese.de/events/erwachsenen-wing-chun-2/var
 /ri-78.l-L1
URL:https://carmen-schniese.de/events/erwachsenen-wing-chun-2/var/ri-78.l-L1
END:VEVENT
END:VCALENDAR