BEGIN:VCALENDAR
VERSION:2.0
PRODID:-//eventon.com NONSGML v1.0//EN
CALSCALE:GREGORIAN
METHOD:PUBLISH
BEGIN:VEVENT
UID:69ec9fbc2abd4
DTSTAMP:20260425T110428Z
DTSTART:20250820T153000Z
DTEND:20250820T163000Z
LOCATION:Ernährungs- und Lifestyle Center Luckau Karl-Marx-Str. 22
SUMMARY:Jumping am Mittwoch
DESCRIPTION:\nhttps://carmen-schniese.de/events/jumping-copy/var/ri-49.l-L1
URL:https://carmen-schniese.de/events/jumping-copy/var/ri-49.l-L1
END:VEVENT
END:VCALENDAR